BEGIN:VCALENDAR
VERSION:2.0
PRODID:icalendar-ruby
CALSCALE:GREGORIAN
METHOD:PUBLISH
BEGIN:VEVENT
DTSTAMP:20260422T001156Z
UID:37-13119311@cornerstonemountainassembly.com
DTSTART:20261008T001500Z
DTEND:20261008T023000Z
CLASS:PUBLIC
CREATED:20260421T161849
DESCRIPTION:Kids Church runs from September until June
LAST-MODIFIED:20260421T161849
LOCATION:Main Sanctuary
SUMMARY:Kids Church
URL;VALUE=URI:https://www.cornerstonemountainassembly.com/events/kids-churc
 h--2/2026-10-07
ATTACH;FILENAME=Kids Church.png;FMTTYPE=image/png:https://dq5pwpg1q8ru0.clo
 udfront.net/2016/03/28/15/48/51/14b5821c-3f22-49f4-af10-057d4ca8e148/Kids%
 20Church.png
ATTACH;FILENAME=Kids church background 2016.jpg;FMTTYPE=image/jpeg:https://
 dq5pwpg1q8ru0.cloudfront.net/2021/02/24/12/16/23/587de5b4-7730-4834-8a96-2
 55ca462ca18/Kids%20church%20background%202016.jpg
END:VEVENT
END:VCALENDAR
